BEGIN:VCALENDAR
VERSION:2.0
PRODID:-//mag-da - ECPv6.15.20//NONSGML v1.0//EN
CALSCALE:GREGORIAN
METHOD:PUBLISH
X-WR-CALNAME:mag-da
X-ORIGINAL-URL:https://mag-da.si
X-WR-CALDESC:Dogodki za mag-da
REFRESH-INTERVAL;VALUE=DURATION:PT1H
X-Robots-Tag:noindex
X-PUBLISHED-TTL:PT1H
BEGIN:VTIMEZONE
TZID:UTC
BEGIN:STANDARD
TZOFFSETFROM:+0000
TZOFFSETTO:+0000
TZNAME:UTC
DTSTART:20250101T000000
END:STANDARD
END:VTIMEZONE
BEGIN:VEVENT
DTSTART;TZID=UTC:20260124T090000
DTEND;TZID=UTC:20260124T170000
DTSTAMP:20260422T230238
CREATED:20260105T064049Z
LAST-MODIFIED:20260105T065220Z
UID:26264-1769245200-1769274000@mag-da.si
SUMMARY:Aktivacija samoobnovitvenega sistema v telesu
DESCRIPTION:Se kdaj počutiš utrujen/a\, brez energije in kot da ti preprosto “ne gre”? To je lahko znak\, da je tvoj samoobnovitveni sistem preobremenjen in potrebuje reset.\n \nRešitev je v tebi – tvoje telo ima neverjetno sposobnost samoobnovitve! Ko ga podpreš s pravimi tehnikami\, se lahko začne proces obnove na vseh ravneh: telesni\, čustveni in mentalni. \n\nNa tečaju boš spoznal/a\, kako:\n\naktivirati naravne mehanizme obnove\,\nzmanjšati vnetja in povečati energijo\,\nizboljšati počutje in kakovost življenja.\n\nOsredotočili se bomo na štiri ključne stebre samopodpore:\n\nSpanje – glavni preklop za regeneracijo\nPrehrana – gorivo za tvoje celice\nDihanje – pomiritev živčnega sistema\nNamera – moč zavesti\, ki usmerja telo\n\nKomu je tečaj namenjen?\n\nVsem\, ki želite povečati energijo in vitalnost.\nTistim\, ki iščejo naravne načine za zmanjšanje stresa.\nLjudem\, ki želijo aktivno poskrbeti za svoje zdravje.\n\n\n\n\nProgram\n\n\n\n\n\n\n\n\n\n\n\n\n\nPrihod in kava/čaj\nTelo kot tempelj\nAvtofagija\nObnova organov\nPavza\nVsaka misel šteje\nKaj nam delajo reklame\nSvetloba in zvok\nMeditacija\nVprašanja in odgovori\n\n\n\nObseg tečaja:\n\nCelodnevni tečaj v živo ali 2x večerni online tečaj preko Zoom platforme\nDelovna skripta\n2x Zoom podpora\n\nLokacija:\n\nPiran (v živo)\nZoom platforma (online)\n\nŠtevilo mest je omejeno – prijavi se pravočasno! \nCENA: 333 EUR\nPRIJAVI SE ZDAJ:\n\n\n  \n\n\n\n\n	\n		\n			\n			 \n		\n		\n			\n			 \n		\n		\n			\n			 \n		\n		\n			Izberi termin21.2.2026\n			 \n		\n		\n			\n			 \n		\n	\n	Soglašam z obdelavo osebnih podatkov v skladu s Politiko zasebnosti.\nStrinjam se s Pogoji poslovanja in potrjujem\, da se tečaja udeležujem prostovoljno ter da vsebine ne nadomeščajo zdravstvene ali medicinske obravnave.\nŽelim prejemati obvestila o novostih\, tečajih in dogodkih.
URL:https://mag-da.si/dogodek/aktivacija-samoobnovitvenega-sistema-v-telesu-5/
LOCATION:Piran\, Razgled 33\, Piran\, 6330\, Slovenia
CATEGORIES:Aktivacija samoobnovitvenega sistema v telesu
ORGANIZER;CN="mag-da":MAILTO:magda@mag-da.si
END:VEVENT
END:VCALENDAR