BEGIN:VCALENDAR
VERSION:2.0
PRODID:-//mag-da - ECPv6.15.20//NONSGML v1.0//EN
CALSCALE:GREGORIAN
METHOD:PUBLISH
X-WR-CALNAME:mag-da
X-ORIGINAL-URL:https://mag-da.si
X-WR-CALDESC:Dogodki za mag-da
REFRESH-INTERVAL;VALUE=DURATION:PT1H
X-Robots-Tag:noindex
X-PUBLISHED-TTL:PT1H
BEGIN:VTIMEZONE
TZID:UTC
BEGIN:STANDARD
TZOFFSETFROM:+0000
TZOFFSETTO:+0000
TZNAME:UTC
DTSTART:20240101T000000
END:STANDARD
END:VTIMEZONE
BEGIN:VEVENT
DTSTART;TZID=UTC:20251213T090000
DTEND;TZID=UTC:20251213T170000
DTSTAMP:20260422T155341
CREATED:20250923T210054Z
LAST-MODIFIED:20250923T210054Z
UID:25869-1765616400-1765645200@mag-da.si
SUMMARY:AKTIVACIJA SAMOOBNOVITVENEGA SISTEMA V TELESU
DESCRIPTION:
URL:https://mag-da.si/dogodek/aktivacija-samoobnovitvenega-sistema-v-telesu-4/
LOCATION:Piran\, Razgled 33\, Piran\, 6330\, Slovenia
ORGANIZER;CN="mag-da":MAILTO:magda@mag-da.si
END:VEVENT
END:VCALENDAR