BEGIN:VCALENDAR
VERSION:2.0
PRODID:-//mag-da - ECPv6.15.20//NONSGML v1.0//EN
CALSCALE:GREGORIAN
METHOD:PUBLISH
X-ORIGINAL-URL:https://mag-da.si
X-WR-CALDESC:Dogodki za mag-da
REFRESH-INTERVAL;VALUE=DURATION:PT1H
X-Robots-Tag:noindex
X-PUBLISHED-TTL:PT1H
BEGIN:VTIMEZONE
TZID:UTC
BEGIN:STANDARD
TZOFFSETFROM:+0000
TZOFFSETTO:+0000
TZNAME:UTC
DTSTART:20250101T000000
END:STANDARD
END:VTIMEZONE
BEGIN:VEVENT
DTSTART;TZID=UTC:20260107T100000
DTEND;TZID=UTC:20260107T180000
DTSTAMP:20260422T221028
CREATED:20260105T070138Z
LAST-MODIFIED:20260105T071155Z
UID:26275-1767780000-1767808800@mag-da.si
SUMMARY:USUI Reiki 1
DESCRIPTION:Pogosta napetost\, izčrpanost ali čustvena neuravnovešenost? Stres\, potlačena čustva in notranji pritiski se sčasoma odrazijo v telesu\, nemiru v mislih in občutku izgube ravnovesja. \nSpoznaj nežno\, a zelo učinkovito energijsko tehniko\, ki spodbuja naravno sposobnost telesa za samozdravljenje. Deluje na fizični\, čustveni\, mentalni in energijski ravni ter pomaga pri sproščanju stresa\, odpravljanju energijskih blokad in ponovni vzpostavitvi notranjega ravnovesja. Primeren je za vse starosti in podpira globoko sprostitev\, večjo življenjsko energijo ter občutek notranjega miru. \n\nKaj je Reiki?\n\n\nJe zdravljenje s polaganjem rok. Starodavno znanje\, ki se je sprva prenašalo z ustnim izročilom in se tako tudi spreminjalo glede na mojstre ali učitelje\, ki so to znanje predajali\, a se je hkrati dodala nota novega. Gre za prenos univerzalne energije\, skozi roke na telo živega bitja (človeka\, živali\, rastlin) ali predmetov. \nMaterin prvi odziv na otrokovo bolečino je ravno polaganje dlani na boleče mesto. Se strinjaš? Torej gre za spomin in najgloblji instinkt\, ki predstavlja to naravno gesto. Se želiš spomniti\, obuditi? \nKomu je tečaj namenjen?\nČe od nekdaj čutiš\, da obstaja nekaj več od tega kar čutimo s petimi čutili\, potem je spoznavanje Reikija pravo zate. Odstre tančice\, ki jih pridobimo skozi leta in se ponovno spomnimo kaj smo v resnici. \nKo se naučimo usmerjati energijo\, lahko z njo zdravimo najprej sebe\, nato druge in vse kar nam pride pod roke (tudi hrano\, rastline…omejitev je samo domišljija). \n\n\nReiki Usui I. stopnje vključuje:\n\n\n\nspoznavanje zgodovine Reiki-ja\,\nspoznavanje prvega simbola cho-ku-rei\,\nmeditacija z vodniki zdravljenja in mojstri\,\nmeditacija s simbolom te stopnje\,\nosnove samozdravljenja in polaganja rok\,\npraktični del\,\niniciacija\,\npovezava miselnih vzorcev in fizičnih bolečin.\n\n\n\n\nObseg tečaja:\n\nCelodnevni tečaj v živo\nDelovna skripta\, ki jo dobite na sami delavnici\nDiploma o opravljeni stopnji\n\nLokacija:\n\nPiran (v živo)\n\nIzvedba tečaja:\nTečaj bosta izvedli Suzana Godec in Magda Osenar. \nŠtevilo mest je omejeno – prijavi se pravočasno! \nCENA: 110 EUR\nPRIJAVI SE ZDAJ:\n\n\n  \n\n\n\n\n	\n		\n			\n			 \n		\n		\n			\n			 \n		\n		\n			\n			 \n		\n		\n			Izberi termin14.3.2026\n			 \n		\n		\n			\n			 \n		\n	\n	Soglašam z obdelavo osebnih podatkov v skladu s Politiko zasebnosti.\nStrinjam se s Pogoji poslovanja in potrjujem\, da se tečaja udeležujem prostovoljno ter da vsebine ne nadomeščajo zdravstvene ali medicinske obravnave.\nŽelim prejemati obvestila o novostih\, tečajih in dogodkih.
URL:https://mag-da.si/dogodek/usui-reiki-1/
LOCATION:Piran\, Razgled 33\, Piran\, 6330\, Slovenia
CATEGORIES:Reiki
ORGANIZER;CN="mag-da":MAILTO:magda@mag-da.si
END:VEVENT
END:VCALENDAR