BEGIN:VCALENDAR
VERSION:2.0
PRODID:-//mag-da - ECPv6.15.20//NONSGML v1.0//EN
CALSCALE:GREGORIAN
METHOD:PUBLISH
X-WR-CALNAME:mag-da
X-ORIGINAL-URL:https://mag-da.si
X-WR-CALDESC:Dogodki za mag-da
REFRESH-INTERVAL;VALUE=DURATION:PT1H
X-Robots-Tag:noindex
X-PUBLISHED-TTL:PT1H
BEGIN:VTIMEZONE
TZID:UTC
BEGIN:STANDARD
TZOFFSETFROM:+0000
TZOFFSETTO:+0000
TZNAME:UTC
DTSTART:20240101T000000
END:STANDARD
END:VTIMEZONE
BEGIN:VEVENT
DTSTART;TZID=UTC:20260107T100000
DTEND;TZID=UTC:20260107T180000
DTSTAMP:20260422T221519
CREATED:20260105T070138Z
LAST-MODIFIED:20260105T071155Z
UID:26275-1767780000-1767808800@mag-da.si
SUMMARY:USUI Reiki 1
DESCRIPTION:Pogosta napetost\, izčrpanost ali čustvena neuravnovešenost? Stres\, potlačena čustva in notranji pritiski se sčasoma odrazijo v telesu\, nemiru v mislih in občutku izgube ravnovesja. \nSpoznaj nežno\, a zelo učinkovito energijsko tehniko\, ki spodbuja naravno sposobnost telesa za samozdravljenje. Deluje na fizični\, čustveni\, mentalni in energijski ravni ter pomaga pri sproščanju stresa\, odpravljanju energijskih blokad in ponovni vzpostavitvi notranjega ravnovesja. Primeren je za vse starosti in podpira globoko sprostitev\, večjo življenjsko energijo ter občutek notranjega miru. \n\nKaj je Reiki?\n\n\nJe zdravljenje s polaganjem rok. Starodavno znanje\, ki se je sprva prenašalo z ustnim izročilom in se tako tudi spreminjalo glede na mojstre ali učitelje\, ki so to znanje predajali\, a se je hkrati dodala nota novega. Gre za prenos univerzalne energije\, skozi roke na telo živega bitja (človeka\, živali\, rastlin) ali predmetov. \nMaterin prvi odziv na otrokovo bolečino je ravno polaganje dlani na boleče mesto. Se strinjaš? Torej gre za spomin in najgloblji instinkt\, ki predstavlja to naravno gesto. Se želiš spomniti\, obuditi? \nKomu je tečaj namenjen?\nČe od nekdaj čutiš\, da obstaja nekaj več od tega kar čutimo s petimi čutili\, potem je spoznavanje Reikija pravo zate. Odstre tančice\, ki jih pridobimo skozi leta in se ponovno spomnimo kaj smo v resnici. \nKo se naučimo usmerjati energijo\, lahko z njo zdravimo najprej sebe\, nato druge in vse kar nam pride pod roke (tudi hrano\, rastline…omejitev je samo domišljija). \n\n\nReiki Usui I. stopnje vključuje:\n\n\n\nspoznavanje zgodovine Reiki-ja\,\nspoznavanje prvega simbola cho-ku-rei\,\nmeditacija z vodniki zdravljenja in mojstri\,\nmeditacija s simbolom te stopnje\,\nosnove samozdravljenja in polaganja rok\,\npraktični del\,\niniciacija\,\npovezava miselnih vzorcev in fizičnih bolečin.\n\n\n\n\nObseg tečaja:\n\nCelodnevni tečaj v živo\nDelovna skripta\, ki jo dobite na sami delavnici\nDiploma o opravljeni stopnji\n\nLokacija:\n\nPiran (v živo)\n\nIzvedba tečaja:\nTečaj bosta izvedli Suzana Godec in Magda Osenar. \nŠtevilo mest je omejeno – prijavi se pravočasno! \nCENA: 110 EUR\nPRIJAVI SE ZDAJ:\n\n\n  \n\n\n\n\n	\n		\n			\n			 \n		\n		\n			\n			 \n		\n		\n			\n			 \n		\n		\n			Izberi termin14.3.2026\n			 \n		\n		\n			\n			 \n		\n	\n	Soglašam z obdelavo osebnih podatkov v skladu s Politiko zasebnosti.\nStrinjam se s Pogoji poslovanja in potrjujem\, da se tečaja udeležujem prostovoljno ter da vsebine ne nadomeščajo zdravstvene ali medicinske obravnave.\nŽelim prejemati obvestila o novostih\, tečajih in dogodkih.
URL:https://mag-da.si/dogodek/usui-reiki-1/
LOCATION:Piran\, Razgled 33\, Piran\, 6330\, Slovenia
CATEGORIES:Reiki
ORGANIZER;CN="mag-da":MAILTO:magda@mag-da.si
END:VEVENT
BEGIN:VEVENT
DTSTART;TZID=UTC:20251213T090000
DTEND;TZID=UTC:20251213T170000
DTSTAMP:20260422T221519
CREATED:20250923T210054Z
LAST-MODIFIED:20250923T210054Z
UID:25869-1765616400-1765645200@mag-da.si
SUMMARY:AKTIVACIJA SAMOOBNOVITVENEGA SISTEMA V TELESU
DESCRIPTION:
URL:https://mag-da.si/dogodek/aktivacija-samoobnovitvenega-sistema-v-telesu-4/
LOCATION:Piran\, Razgled 33\, Piran\, 6330\, Slovenia
ORGANIZER;CN="mag-da":MAILTO:magda@mag-da.si
END:VEVENT
BEGIN:VEVENT
DTSTART;TZID=UTC:20251122T090000
DTEND;TZID=UTC:20251122T170000
DTSTAMP:20260422T221519
CREATED:20250923T202940Z
LAST-MODIFIED:20250923T204110Z
UID:25865-1763802000-1763830800@mag-da.si
SUMMARY:Aktivacija samoobnovitvenega sistema v telesu
DESCRIPTION:
URL:https://mag-da.si/dogodek/aktivacija-samoobnovitvenega-sistema-v-telesu-2/
LOCATION:Piran\, Razgled 33\, Piran\, 6330\, Slovenia
ORGANIZER;CN="mag-da":MAILTO:magda@mag-da.si
END:VEVENT
BEGIN:VEVENT
DTSTART;TZID=UTC:20251011T090000
DTEND;TZID=UTC:20251011T170000
DTSTAMP:20260422T221519
CREATED:20250923T203648Z
LAST-MODIFIED:20250923T205653Z
UID:25863-1760173200-1760202000@mag-da.si
SUMMARY:Aktivacija samoobnovitvenega sistema v telesu
DESCRIPTION:
URL:https://mag-da.si/dogodek/aktivacija-samoobnovitvenega-sistema-v-telesu-3/
LOCATION:Piran\, Razgled 33\, Piran\, 6330\, Slovenia
CATEGORIES:Aktivacija samoobnovitvenega sistema v telesu
ORGANIZER;CN="mag-da":MAILTO:magda@mag-da.si
END:VEVENT
BEGIN:VEVENT
DTSTART;TZID=UTC:20250927T090000
DTEND;TZID=UTC:20250927T170000
DTSTAMP:20260422T221519
CREATED:20250923T085921Z
LAST-MODIFIED:20250923T204323Z
UID:25856-1758963600-1758992400@mag-da.si
SUMMARY:Aktivacija samoobnovitvenega sistema v telesu
DESCRIPTION:
URL:https://mag-da.si/dogodek/aktivacija-samoobnovitvenega-sistema-v-telesu/
LOCATION:Piran\, Razgled 33\, Piran\, 6330\, Slovenia
CATEGORIES:Aktivacija samoobnovitvenega sistema v telesu
ORGANIZER;CN="mag-da":MAILTO:magda@mag-da.si
END:VEVENT
BEGIN:VEVENT
DTSTART;TZID=UTC:20250131T153000
DTEND;TZID=UTC:20250202T153000
DTSTAMP:20260422T221519
CREATED:20241219T103832Z
LAST-MODIFIED:20250120T143149Z
UID:25687-1738337400-1738510200@mag-da.si
SUMMARY:Višji Jaz - 31.1.-2.2.2025
DESCRIPTION:Energijski vikend paket je zasnovan za 4 osebe in združuje sprostitev in telesno aktivnost. Uživali boste v jutranji kavici s pogledom na morje\, meditaciji in duhovnih terapijah. Če bo vreme dopuščalo se bomo podali tudi na kolesarski izlet z e-kolesi v Energetski park Strunjan\, kjer boste prisluhnili svojemu telesu. Potem pa na kosilo. Spoznali se boste s Cosmoterapijo\, sprostili stare zaobljube in poiskali odgovore na vprašanja\, ki vas pestijo. Domov boste odšli s svežo energijo\, novimi spoznanji in nepozabnimi doživetji! \nProgram \nPRVI DAN: \n\nPrihod in namestitev\nCosmoterapija (predstavitev in izvajanje v parih)\nVečerja po želji in počitek\n\nDRUGI DAN: \n\nOdpravljanje zaobljub in osvobajanje preteklih vezi\nSvetlobna terapija ali joga (po izbiri)\nOdgovarjanje na vaša vprašanja ob čaju in kartah\nVečerja po želji in počitek\n\nTRETJI DAN \n\nE-kolesarjenje do energetskega parka v Strunjanu (ali nadomestne aktivnosti v primeru slabega vremena)\nSkupinsko kosilo v Gostilni Strunjan\nOdhod\n\nPodrobnosti \nOb prihodu se udobno namestite in začne se vaš energijski konec tedna. Predstavim in pokažem vam Cosmoterapijo\, potem jo v parih izvajate sami\, da dobite občutek\, kaj počnete in se naučite pomagat sebi in svojim domačim. Preostanek večera je namenjen večerji\, skupinskemu druženju\, počitku. Apartma je polno opremljen in si lahko sami kaj skuhate\, naročite dostavo hrane ali se odpravite nekam na večerjo. \nDrugi dan začnemo z Odpravljanjem zaobljub\, ki ste jih kadar koli\, kjer koli\, v katerem koli življenju dali\, da s tega dogodka odidete svobodni. Nato pa so vam na izbiro svetlobne terapije ali joga (po vaši izbiri). Sledi večerno odgovarjanje na vaša vprašanja ob toplem čaju in kartah\, ker verjamem\, da se vam veliko dogaja in ne najdete odgovorov. Tudi sobotni večer je namenjen večerji po želji\, skupinskemu druženju\, počitku. \nTretji dan se z e-kolesi\, ki vas čakajo pred apartmajem skupaj odpravimo do energetskega parka Strunjan\, kjer ugotovite\, kaj vam telo želi povedat. V primeru slabega vremena bodo organizirane nadomestne aktivnosti. Naše vikend druženje zaključimo s skupinskim kosilom v Gostilni Strunjan. Preostanek dneva lahko izkoristite za sprehod ob morju\, raziskovanje slovenske obale ali pa se odpravite domov\, polni vtisov\, novih poznanstev\, novega znanja in posebnih doživetij.  \nVeselim se klepeta z vami in odstiranja v mogoče in nemogoče širine. Naš um ima neverjetne sposobnosti. Veselim se širjenja zavesti. \nPaket vsebuje: \n1x Svetlobna terapija / joga (po izbiri) \n1x Cosmoterapija  \n1x Odpravljanje zaobljub  \n1x Vprašanja in odgovori ob kartah \n1x Kolesarjenje z e-kolesi \n1x Kosilo v Gostilni Strunjan \n2x nočitev \nPaket je primeren za 4 osebe\, v ceno paketa ni vključena hrana v toku bivanja.
URL:https://mag-da.si/dogodek/visji-jaz-31-1-2-2-2025/
LOCATION:Piran\, Razgled 33\, Piran\, 6330\, Slovenia
CATEGORIES:Višji Jaz
ATTACH;FMTTYPE=image/png:https://mag-da.si/wp-content/uploads/2024/10/envato-labs-ai-43a5e753-ab7c-44e1-b71c-39c399f2b3f1.png
ORGANIZER;CN="mag-da":MAILTO:magda@mag-da.si
END:VEVENT
BEGIN:VEVENT
DTSTART;TZID=UTC:20250117T153000
DTEND;TZID=UTC:20250119T153000
DTSTAMP:20260422T221519
CREATED:20241219T103630Z
LAST-MODIFIED:20250102T150043Z
UID:25685-1737127800-1737300600@mag-da.si
SUMMARY:Višji Jaz - 17.1.-19.1.2025
DESCRIPTION:Energijski vikend paket je zasnovan za 4 osebe in združuje sprostitev in telesno aktivnost. Uživali boste v jutranji kavici s pogledom na morje\, meditaciji in duhovnih terapijah. Skupaj se bomo podali na kolesarski izlet z e-kolesi v Energetski park Strunjan\, kjer boste prisluhnili svojemu telesu. Potem pa na kosilo. Spoznali se boste s Cosmoterapijo\, sprostili stare zaobljube in poiskali odgovore na vprašanja\, ki vas pestijo. Domov boste odšli s svežo energijo\, novimi spoznanji in nepozabnimi doživetji! \nProgram \nPRVI DAN: \n\nPrihod in namestitev\nCosmoterapija (predstavitev in izvajanje v parih)\nSkupinska meditacija\nVečerja po želji in počitek\n\nDRUGI DAN: \n\nOdpravljanje zaobljub in osvobajanje preteklih vezi\nE-kolesarjenje do energetskega parka v Strunjanu (ali nadomestne aktivnosti v primeru slabega vremena)\nSkupinsko kosilo v Gostilni Strunjan\nOdgovarjanje na vaša vprašanja ob čaju in kartah\nVečerja po želji in počitek\n\nTRETJI DAN \n\nOdhod\n\nPodrobnosti \nOb prihodu se udobno namestite in začne se vaš energijski konec tedna. Predstavim in pokažem vam Cosmoterapijo\, potem jo v parih izvajate sami\, da dobite občutek\, kaj počnete in se naučite pomagat sebi in svojim domačim. Za vas pripravim skupinsko meditacijo. Po končani meditaciji je preostanek večera namenjen večerji\, skupinskemu druženju\, počitku. Apartma je polno opremljen in si lahko sami kaj skuhate\, naročite dostavo hrane ali se odpravite nekam na večerjo. \nDrugi dan začnemo z Odpravljanjem zaobljub\, ki ste jih kadar koli\, kjer koli\, v katerem koli življenju dali\, da s tega dogodka odidete svobodni. Nato se z e-kolesi\, ki vas čakajo pred apartmajem skupaj odpravimo do energetskega parka Strunjan\, kjer ugotovite\, kaj vam telo želi povedat. V primeru slabega vremena bodo organizirane nadomestne aktivnosti. Kolesarjenje zaključimo s skupinskim kosilom v Gostilni Strunjan. Nato sledi večerno odgovarjanje na vaša vprašanja ob toplem čaju in kartah\, ker verjamem\, da se vam veliko dogaja in ne najdete odgovorov. Tudi sobotni večer je namenjen večerji po želji\, skupinskemu druženju\, počitku. \nTretji dan je namenjen Vam in Vašim željam. Lahko ga izkoristite za sprehod ob morju\, raziskovanje slovenske obale ali pa se odpravite domov\, polni vtisov\, novih poznanstev\, novega znanja in posebnih doživetij.  \nVeselim se klepeta z vami in odstiranja v mogoče in nemogoče širine. Naš um ima neverjetne sposobnosti. Veselim se širjenja zavesti. \nPaket vsebuje: \n1x Svetlobna terapija  \n1x Cosmoterapija  \n1x Odpravljanje zaobljub  \n1x Meditacija  \n1x Vprašanja in odgovori ob kartah \n1x Kolesarjenje z e-kolesi \n1x Kosilo v Gostilni Strunjan \n2x nočitev \nPaket je primeren za 4 osebe\, v ceno paketa ni vključena hrana v toku bivanja.
URL:https://mag-da.si/dogodek/visji-jaz-17-1-19-1-2025/
LOCATION:Piran\, Razgled 33\, Piran\, 6330\, Slovenia
CATEGORIES:Višji Jaz
ATTACH;FMTTYPE=image/png:https://mag-da.si/wp-content/uploads/2024/10/envato-labs-ai-43a5e753-ab7c-44e1-b71c-39c399f2b3f1.png
ORGANIZER;CN="mag-da":MAILTO:magda@mag-da.si
END:VEVENT
BEGIN:VEVENT
DTSTART;TZID=UTC:20250103T153000
DTEND;TZID=UTC:20250105T153000
DTSTAMP:20260422T221519
CREATED:20200428T132515Z
LAST-MODIFIED:20250102T150012Z
UID:1204-1735918200-1736091000@mag-da.si
SUMMARY:Višji Jaz - 3.1.-5.1.2025
DESCRIPTION:Energijski vikend paket je zasnovan za 4 osebe in združuje sprostitev in telesno aktivnost. Uživali boste v jutranji kavici s pogledom na morje\, meditaciji in duhovnih terapijah. Skupaj se bomo podali na kolesarski izlet z e-kolesi v Energetski park Strunjan\, kjer boste prisluhnili svojemu telesu. Potem pa na kosilo. Spoznali se boste s Cosmoterapijo\, sprostili stare zaobljube in poiskali odgovore na vprašanja\, ki vas pestijo. Domov boste odšli s svežo energijo\, novimi spoznanji in nepozabnimi doživetji! \nProgram \nPRVI DAN: \n\nPrihod in namestitev\nCosmoterapija (predstavitev in izvajanje v parih)\nSkupinska meditacija\nVečerja po želji in počitek\n\nDRUGI DAN: \n\nOdpravljanje zaobljub in osvobajanje preteklih vezi\nE-kolesarjenje do energetskega parka v Strunjanu (ali nadomestne aktivnosti v primeru slabega vremena)\nSkupinsko kosilo v Gostilni Strunjan\nOdgovarjanje na vaša vprašanja ob čaju in kartah\nVečerja po želji in počitek\n\nTRETJI DAN \n\nOdhod\n\nPodrobnosti \nOb prihodu se udobno namestite in začne se vaš energijski konec tedna. Predstavim in pokažem vam Cosmoterapijo\, potem jo v parih izvajate sami\, da dobite občutek\, kaj počnete in se naučite pomagat sebi in svojim domačim. Za vas pripravim skupinsko meditacijo. Po končani meditaciji je preostanek večera namenjen večerji\, skupinskemu druženju\, počitku. Apartma je polno opremljen in si lahko sami kaj skuhate\, naročite dostavo hrane ali se odpravite nekam na večerjo.  \nDrugi dan začnemo z Odpravljanjem zaobljub\, ki ste jih kadar koli\, kjer koli\, v katerem koli življenju dali\, da s tega dogodka odidete svobodni. Nato se z e-kolesi\, ki vas čakajo pred apartmajem skupaj odpravimo do energetskega parka Strunjan\, kjer ugotovite\, kaj vam telo želi povedat. V primeru slabega vremena bodo organizirane nadomestne aktivnosti. Kolesarjenje zaključimo s skupinskim kosilom v Gostilni Strunjan. Nato sledi večerno odgovarjanje na vaša vprašanja ob toplem čaju in kartah\, ker verjamem\, da se vam veliko dogaja in ne najdete odgovorov. Tudi sobotni večer je namenjen večerji po želji\, skupinskemu druženju\, počitku.  \nTretji dan je namenjen Vam in Vašim željam. Lahko ga izkoristite za sprehod ob morju\, raziskovanje slovenske obale ali pa se odpravite domov\, polni vtisov\, novih poznanstev\, novega znanja in posebnih doživetij.  \nVeselim se klepeta z vami in odstiranja v mogoče in nemogoče širine. Naš um ima neverjetne sposobnosti. Veselim se širjenja zavesti. \nPaket vsebuje: \n1x Svetlobna terapija  \n1x Cosmoterapija  \n1x Odpravljanje zaobljub  \n1x Meditacija  \n1x Vprašanja in odgovori ob kartah \n1x Kolesarjenje z e-kolesi \n1x Kosilo v Gostilni Strunjan \n2x nočitev \nPaket je primeren za 4 osebe\, v ceno paketa ni vključena hrana v toku bivanja. 
URL:https://mag-da.si/dogodek/visji-jaz/
LOCATION:Piran\, Razgled 33\, Piran\, 6330\, Slovenia
CATEGORIES:Višji Jaz
ATTACH;FMTTYPE=image/png:https://mag-da.si/wp-content/uploads/2024/10/envato-labs-ai-43a5e753-ab7c-44e1-b71c-39c399f2b3f1.png
ORGANIZER;CN="mag-da":MAILTO:magda@mag-da.si
END:VEVENT
END:VCALENDAR